BEGIN:VCALENDAR
VERSION:2.0
PRODID:-//Harrogate Spa Tennis &amp; Padel Centre - ECPv6.15.20//NONSGML v1.0//EN
CALSCALE:GREGORIAN
METHOD:PUBLISH
X-WR-CALNAME:Harrogate Spa Tennis &amp; Padel Centre
X-ORIGINAL-URL:https://spatennis.org.uk
X-WR-CALDESC:Events for Harrogate Spa Tennis &amp; Padel Centre
REFRESH-INTERVAL;VALUE=DURATION:PT1H
X-Robots-Tag:noindex
X-PUBLISHED-TTL:PT1H
BEGIN:VTIMEZONE
TZID:Europe/London
BEGIN:DAYLIGHT
TZOFFSETFROM:+0000
TZOFFSETTO:+0100
TZNAME:BST
DTSTART:20250330T010000
END:DAYLIGHT
BEGIN:STANDARD
TZOFFSETFROM:+0100
TZOFFSETTO:+0000
TZNAME:GMT
DTSTART:20251026T010000
END:STANDARD
BEGIN:DAYLIGHT
TZOFFSETFROM:+0000
TZOFFSETTO:+0100
TZNAME:BST
DTSTART:20260329T010000
END:DAYLIGHT
BEGIN:STANDARD
TZOFFSETFROM:+0100
TZOFFSETTO:+0000
TZNAME:GMT
DTSTART:20261025T010000
END:STANDARD
BEGIN:DAYLIGHT
TZOFFSETFROM:+0000
TZOFFSETTO:+0100
TZNAME:BST
DTSTART:20270328T010000
END:DAYLIGHT
BEGIN:STANDARD
TZOFFSETFROM:+0100
TZOFFSETTO:+0000
TZNAME:GMT
DTSTART:20271031T010000
END:STANDARD
END:VTIMEZONE
BEGIN:VEVENT
DTSTART;TZID=Europe/London:20260421T160000
DTEND;TZID=Europe/London:20260421T170000
DTSTAMP:20260419T133337
CREATED:20250701T115113Z
LAST-MODIFIED:20250701T122232Z
UID:10004738-1776787200-1776790800@spatennis.org.uk
SUMMARY:Match Play with Jonathan (Padel)
DESCRIPTION:Match Play with Jonathan\, Tuesdays 4pm-5pm. Book via Playtomic
URL:https://spatennis.org.uk/event/match-play-with-jonathan-padel-2/2026-04-21/
LOCATION:Harrogate Spa Tennis & Padel Centre\, Claro Park\, Harrogate\, North Yorkshire\, HG1 4BB\, United Kingdom
CATEGORIES:Padel,Padel Coaching
END:VEVENT
BEGIN:VEVENT
DTSTART;TZID=Europe/London:20260421T170000
DTEND;TZID=Europe/London:20260421T180000
DTSTAMP:20260419T133337
CREATED:20250520T125900Z
LAST-MODIFIED:20250701T121857Z
UID:10003950-1776790800-1776794400@spatennis.org.uk
SUMMARY:Beginners Padel
DESCRIPTION:Hourly beginner’s padel coaching sessions. Tuesday’s 5pm-6pm Book via Playtomic
URL:https://spatennis.org.uk/event/beginners-padel/2026-04-21/
LOCATION:Harrogate Spa Tennis & Padel Centre\, Claro Park\, Harrogate\, North Yorkshire\, HG1 4BB\, United Kingdom
CATEGORIES:Padel,Padel Coaching
END:VEVENT
BEGIN:VEVENT
DTSTART;TZID=Europe/London:20260421T180000
DTEND;TZID=Europe/London:20260421T190000
DTSTAMP:20260419T133337
CREATED:20250701T114506Z
LAST-MODIFIED:20250701T122352Z
UID:10004478-1776794400-1776798000@spatennis.org.uk
SUMMARY:Cardio Padel
DESCRIPTION:Cardio padel coaching sessions. Tuesday’s 6pm-7pm Book via Playtomic
URL:https://spatennis.org.uk/event/cardio-padel/2026-04-21/
LOCATION:Harrogate Spa Tennis & Padel Centre\, Claro Park\, Harrogate\, North Yorkshire\, HG1 4BB\, United Kingdom
CATEGORIES:Padel,Padel Coaching
END:VEVENT
BEGIN:VEVENT
DTSTART;TZID=Europe/London:20260428T160000
DTEND;TZID=Europe/London:20260428T170000
DTSTAMP:20260419T133337
CREATED:20250701T115113Z
LAST-MODIFIED:20250701T122232Z
UID:10004739-1777392000-1777395600@spatennis.org.uk
SUMMARY:Match Play with Jonathan (Padel)
DESCRIPTION:Match Play with Jonathan\, Tuesdays 4pm-5pm. Book via Playtomic
URL:https://spatennis.org.uk/event/match-play-with-jonathan-padel-2/2026-04-28/
LOCATION:Harrogate Spa Tennis & Padel Centre\, Claro Park\, Harrogate\, North Yorkshire\, HG1 4BB\, United Kingdom
CATEGORIES:Padel,Padel Coaching
END:VEVENT
BEGIN:VEVENT
DTSTART;TZID=Europe/London:20260428T170000
DTEND;TZID=Europe/London:20260428T180000
DTSTAMP:20260419T133337
CREATED:20250520T125900Z
LAST-MODIFIED:20250701T121857Z
UID:10003951-1777395600-1777399200@spatennis.org.uk
SUMMARY:Beginners Padel
DESCRIPTION:Hourly beginner’s padel coaching sessions. Tuesday’s 5pm-6pm Book via Playtomic
URL:https://spatennis.org.uk/event/beginners-padel/2026-04-28/
LOCATION:Harrogate Spa Tennis & Padel Centre\, Claro Park\, Harrogate\, North Yorkshire\, HG1 4BB\, United Kingdom
CATEGORIES:Padel,Padel Coaching
END:VEVENT
BEGIN:VEVENT
DTSTART;TZID=Europe/London:20260428T180000
DTEND;TZID=Europe/London:20260428T190000
DTSTAMP:20260419T133337
CREATED:20250701T114506Z
LAST-MODIFIED:20250701T122352Z
UID:10004479-1777399200-1777402800@spatennis.org.uk
SUMMARY:Cardio Padel
DESCRIPTION:Cardio padel coaching sessions. Tuesday’s 6pm-7pm Book via Playtomic
URL:https://spatennis.org.uk/event/cardio-padel/2026-04-28/
LOCATION:Harrogate Spa Tennis & Padel Centre\, Claro Park\, Harrogate\, North Yorkshire\, HG1 4BB\, United Kingdom
CATEGORIES:Padel,Padel Coaching
END:VEVENT
BEGIN:VEVENT
DTSTART;TZID=Europe/London:20260505T160000
DTEND;TZID=Europe/London:20260505T170000
DTSTAMP:20260419T133337
CREATED:20250701T115113Z
LAST-MODIFIED:20250701T122232Z
UID:10004740-1777996800-1778000400@spatennis.org.uk
SUMMARY:Match Play with Jonathan (Padel)
DESCRIPTION:Match Play with Jonathan\, Tuesdays 4pm-5pm. Book via Playtomic
URL:https://spatennis.org.uk/event/match-play-with-jonathan-padel-2/2026-05-05/
LOCATION:Harrogate Spa Tennis & Padel Centre\, Claro Park\, Harrogate\, North Yorkshire\, HG1 4BB\, United Kingdom
CATEGORIES:Padel,Padel Coaching
END:VEVENT
BEGIN:VEVENT
DTSTART;TZID=Europe/London:20260505T170000
DTEND;TZID=Europe/London:20260505T180000
DTSTAMP:20260419T133337
CREATED:20250520T125900Z
LAST-MODIFIED:20250701T121857Z
UID:10003952-1778000400-1778004000@spatennis.org.uk
SUMMARY:Beginners Padel
DESCRIPTION:Hourly beginner’s padel coaching sessions. Tuesday’s 5pm-6pm Book via Playtomic
URL:https://spatennis.org.uk/event/beginners-padel/2026-05-05/
LOCATION:Harrogate Spa Tennis & Padel Centre\, Claro Park\, Harrogate\, North Yorkshire\, HG1 4BB\, United Kingdom
CATEGORIES:Padel,Padel Coaching
END:VEVENT
BEGIN:VEVENT
DTSTART;TZID=Europe/London:20260505T180000
DTEND;TZID=Europe/London:20260505T190000
DTSTAMP:20260419T133337
CREATED:20250701T114506Z
LAST-MODIFIED:20250701T122352Z
UID:10004480-1778004000-1778007600@spatennis.org.uk
SUMMARY:Cardio Padel
DESCRIPTION:Cardio padel coaching sessions. Tuesday’s 6pm-7pm Book via Playtomic
URL:https://spatennis.org.uk/event/cardio-padel/2026-05-05/
LOCATION:Harrogate Spa Tennis & Padel Centre\, Claro Park\, Harrogate\, North Yorkshire\, HG1 4BB\, United Kingdom
CATEGORIES:Padel,Padel Coaching
END:VEVENT
BEGIN:VEVENT
DTSTART;TZID=Europe/London:20260512T160000
DTEND;TZID=Europe/London:20260512T170000
DTSTAMP:20260419T133337
CREATED:20250701T115113Z
LAST-MODIFIED:20250701T122232Z
UID:10004741-1778601600-1778605200@spatennis.org.uk
SUMMARY:Match Play with Jonathan (Padel)
DESCRIPTION:Match Play with Jonathan\, Tuesdays 4pm-5pm. Book via Playtomic
URL:https://spatennis.org.uk/event/match-play-with-jonathan-padel-2/2026-05-12/
LOCATION:Harrogate Spa Tennis & Padel Centre\, Claro Park\, Harrogate\, North Yorkshire\, HG1 4BB\, United Kingdom
CATEGORIES:Padel,Padel Coaching
END:VEVENT
BEGIN:VEVENT
DTSTART;TZID=Europe/London:20260512T170000
DTEND;TZID=Europe/London:20260512T180000
DTSTAMP:20260419T133337
CREATED:20250520T125900Z
LAST-MODIFIED:20250701T121857Z
UID:10003953-1778605200-1778608800@spatennis.org.uk
SUMMARY:Beginners Padel
DESCRIPTION:Hourly beginner’s padel coaching sessions. Tuesday’s 5pm-6pm Book via Playtomic
URL:https://spatennis.org.uk/event/beginners-padel/2026-05-12/
LOCATION:Harrogate Spa Tennis & Padel Centre\, Claro Park\, Harrogate\, North Yorkshire\, HG1 4BB\, United Kingdom
CATEGORIES:Padel,Padel Coaching
END:VEVENT
BEGIN:VEVENT
DTSTART;TZID=Europe/London:20260512T180000
DTEND;TZID=Europe/London:20260512T190000
DTSTAMP:20260419T133337
CREATED:20250701T114506Z
LAST-MODIFIED:20250701T122352Z
UID:10004481-1778608800-1778612400@spatennis.org.uk
SUMMARY:Cardio Padel
DESCRIPTION:Cardio padel coaching sessions. Tuesday’s 6pm-7pm Book via Playtomic
URL:https://spatennis.org.uk/event/cardio-padel/2026-05-12/
LOCATION:Harrogate Spa Tennis & Padel Centre\, Claro Park\, Harrogate\, North Yorkshire\, HG1 4BB\, United Kingdom
CATEGORIES:Padel,Padel Coaching
END:VEVENT
BEGIN:VEVENT
DTSTART;TZID=Europe/London:20260519T160000
DTEND;TZID=Europe/London:20260519T170000
DTSTAMP:20260419T133337
CREATED:20250701T115113Z
LAST-MODIFIED:20250701T122232Z
UID:10004742-1779206400-1779210000@spatennis.org.uk
SUMMARY:Match Play with Jonathan (Padel)
DESCRIPTION:Match Play with Jonathan\, Tuesdays 4pm-5pm. Book via Playtomic
URL:https://spatennis.org.uk/event/match-play-with-jonathan-padel-2/2026-05-19/
LOCATION:Harrogate Spa Tennis & Padel Centre\, Claro Park\, Harrogate\, North Yorkshire\, HG1 4BB\, United Kingdom
CATEGORIES:Padel,Padel Coaching
END:VEVENT
BEGIN:VEVENT
DTSTART;TZID=Europe/London:20260519T170000
DTEND;TZID=Europe/London:20260519T180000
DTSTAMP:20260419T133337
CREATED:20250520T125900Z
LAST-MODIFIED:20250701T121857Z
UID:10003954-1779210000-1779213600@spatennis.org.uk
SUMMARY:Beginners Padel
DESCRIPTION:Hourly beginner’s padel coaching sessions. Tuesday’s 5pm-6pm Book via Playtomic
URL:https://spatennis.org.uk/event/beginners-padel/2026-05-19/
LOCATION:Harrogate Spa Tennis & Padel Centre\, Claro Park\, Harrogate\, North Yorkshire\, HG1 4BB\, United Kingdom
CATEGORIES:Padel,Padel Coaching
END:VEVENT
BEGIN:VEVENT
DTSTART;TZID=Europe/London:20260519T180000
DTEND;TZID=Europe/London:20260519T190000
DTSTAMP:20260419T133337
CREATED:20250701T114506Z
LAST-MODIFIED:20250701T122352Z
UID:10004482-1779213600-1779217200@spatennis.org.uk
SUMMARY:Cardio Padel
DESCRIPTION:Cardio padel coaching sessions. Tuesday’s 6pm-7pm Book via Playtomic
URL:https://spatennis.org.uk/event/cardio-padel/2026-05-19/
LOCATION:Harrogate Spa Tennis & Padel Centre\, Claro Park\, Harrogate\, North Yorkshire\, HG1 4BB\, United Kingdom
CATEGORIES:Padel,Padel Coaching
END:VEVENT
BEGIN:VEVENT
DTSTART;TZID=Europe/London:20260526T160000
DTEND;TZID=Europe/London:20260526T170000
DTSTAMP:20260419T133337
CREATED:20250701T115113Z
LAST-MODIFIED:20250701T122232Z
UID:10004743-1779811200-1779814800@spatennis.org.uk
SUMMARY:Match Play with Jonathan (Padel)
DESCRIPTION:Match Play with Jonathan\, Tuesdays 4pm-5pm. Book via Playtomic
URL:https://spatennis.org.uk/event/match-play-with-jonathan-padel-2/2026-05-26/
LOCATION:Harrogate Spa Tennis & Padel Centre\, Claro Park\, Harrogate\, North Yorkshire\, HG1 4BB\, United Kingdom
CATEGORIES:Padel,Padel Coaching
END:VEVENT
BEGIN:VEVENT
DTSTART;TZID=Europe/London:20260526T170000
DTEND;TZID=Europe/London:20260526T180000
DTSTAMP:20260419T133337
CREATED:20250520T125900Z
LAST-MODIFIED:20250701T121857Z
UID:10003955-1779814800-1779818400@spatennis.org.uk
SUMMARY:Beginners Padel
DESCRIPTION:Hourly beginner’s padel coaching sessions. Tuesday’s 5pm-6pm Book via Playtomic
URL:https://spatennis.org.uk/event/beginners-padel/2026-05-26/
LOCATION:Harrogate Spa Tennis & Padel Centre\, Claro Park\, Harrogate\, North Yorkshire\, HG1 4BB\, United Kingdom
CATEGORIES:Padel,Padel Coaching
END:VEVENT
BEGIN:VEVENT
DTSTART;TZID=Europe/London:20260526T180000
DTEND;TZID=Europe/London:20260526T190000
DTSTAMP:20260419T133337
CREATED:20250701T114506Z
LAST-MODIFIED:20250701T122352Z
UID:10004483-1779818400-1779822000@spatennis.org.uk
SUMMARY:Cardio Padel
DESCRIPTION:Cardio padel coaching sessions. Tuesday’s 6pm-7pm Book via Playtomic
URL:https://spatennis.org.uk/event/cardio-padel/2026-05-26/
LOCATION:Harrogate Spa Tennis & Padel Centre\, Claro Park\, Harrogate\, North Yorkshire\, HG1 4BB\, United Kingdom
CATEGORIES:Padel,Padel Coaching
END:VEVENT
BEGIN:VEVENT
DTSTART;TZID=Europe/London:20260602T160000
DTEND;TZID=Europe/London:20260602T170000
DTSTAMP:20260419T133337
CREATED:20250701T115113Z
LAST-MODIFIED:20250701T122232Z
UID:10004744-1780416000-1780419600@spatennis.org.uk
SUMMARY:Match Play with Jonathan (Padel)
DESCRIPTION:Match Play with Jonathan\, Tuesdays 4pm-5pm. Book via Playtomic
URL:https://spatennis.org.uk/event/match-play-with-jonathan-padel-2/2026-06-02/
LOCATION:Harrogate Spa Tennis & Padel Centre\, Claro Park\, Harrogate\, North Yorkshire\, HG1 4BB\, United Kingdom
CATEGORIES:Padel,Padel Coaching
END:VEVENT
BEGIN:VEVENT
DTSTART;TZID=Europe/London:20260602T170000
DTEND;TZID=Europe/London:20260602T180000
DTSTAMP:20260419T133337
CREATED:20250520T125900Z
LAST-MODIFIED:20250701T121857Z
UID:10003956-1780419600-1780423200@spatennis.org.uk
SUMMARY:Beginners Padel
DESCRIPTION:Hourly beginner’s padel coaching sessions. Tuesday’s 5pm-6pm Book via Playtomic
URL:https://spatennis.org.uk/event/beginners-padel/2026-06-02/
LOCATION:Harrogate Spa Tennis & Padel Centre\, Claro Park\, Harrogate\, North Yorkshire\, HG1 4BB\, United Kingdom
CATEGORIES:Padel,Padel Coaching
END:VEVENT
BEGIN:VEVENT
DTSTART;TZID=Europe/London:20260602T180000
DTEND;TZID=Europe/London:20260602T190000
DTSTAMP:20260419T133337
CREATED:20250701T114506Z
LAST-MODIFIED:20250701T122352Z
UID:10004484-1780423200-1780426800@spatennis.org.uk
SUMMARY:Cardio Padel
DESCRIPTION:Cardio padel coaching sessions. Tuesday’s 6pm-7pm Book via Playtomic
URL:https://spatennis.org.uk/event/cardio-padel/2026-06-02/
LOCATION:Harrogate Spa Tennis & Padel Centre\, Claro Park\, Harrogate\, North Yorkshire\, HG1 4BB\, United Kingdom
CATEGORIES:Padel,Padel Coaching
END:VEVENT
BEGIN:VEVENT
DTSTART;TZID=Europe/London:20260609T160000
DTEND;TZID=Europe/London:20260609T170000
DTSTAMP:20260419T133337
CREATED:20250701T115113Z
LAST-MODIFIED:20250701T122232Z
UID:10004745-1781020800-1781024400@spatennis.org.uk
SUMMARY:Match Play with Jonathan (Padel)
DESCRIPTION:Match Play with Jonathan\, Tuesdays 4pm-5pm. Book via Playtomic
URL:https://spatennis.org.uk/event/match-play-with-jonathan-padel-2/2026-06-09/
LOCATION:Harrogate Spa Tennis & Padel Centre\, Claro Park\, Harrogate\, North Yorkshire\, HG1 4BB\, United Kingdom
CATEGORIES:Padel,Padel Coaching
END:VEVENT
BEGIN:VEVENT
DTSTART;TZID=Europe/London:20260609T170000
DTEND;TZID=Europe/London:20260609T180000
DTSTAMP:20260419T133337
CREATED:20250520T125900Z
LAST-MODIFIED:20250701T121857Z
UID:10003957-1781024400-1781028000@spatennis.org.uk
SUMMARY:Beginners Padel
DESCRIPTION:Hourly beginner’s padel coaching sessions. Tuesday’s 5pm-6pm Book via Playtomic
URL:https://spatennis.org.uk/event/beginners-padel/2026-06-09/
LOCATION:Harrogate Spa Tennis & Padel Centre\, Claro Park\, Harrogate\, North Yorkshire\, HG1 4BB\, United Kingdom
CATEGORIES:Padel,Padel Coaching
END:VEVENT
BEGIN:VEVENT
DTSTART;TZID=Europe/London:20260609T180000
DTEND;TZID=Europe/London:20260609T190000
DTSTAMP:20260419T133337
CREATED:20250701T114506Z
LAST-MODIFIED:20250701T122352Z
UID:10004485-1781028000-1781031600@spatennis.org.uk
SUMMARY:Cardio Padel
DESCRIPTION:Cardio padel coaching sessions. Tuesday’s 6pm-7pm Book via Playtomic
URL:https://spatennis.org.uk/event/cardio-padel/2026-06-09/
LOCATION:Harrogate Spa Tennis & Padel Centre\, Claro Park\, Harrogate\, North Yorkshire\, HG1 4BB\, United Kingdom
CATEGORIES:Padel,Padel Coaching
END:VEVENT
BEGIN:VEVENT
DTSTART;TZID=Europe/London:20260616T160000
DTEND;TZID=Europe/London:20260616T170000
DTSTAMP:20260419T133337
CREATED:20250701T115113Z
LAST-MODIFIED:20250701T122232Z
UID:10004746-1781625600-1781629200@spatennis.org.uk
SUMMARY:Match Play with Jonathan (Padel)
DESCRIPTION:Match Play with Jonathan\, Tuesdays 4pm-5pm. Book via Playtomic
URL:https://spatennis.org.uk/event/match-play-with-jonathan-padel-2/2026-06-16/
LOCATION:Harrogate Spa Tennis & Padel Centre\, Claro Park\, Harrogate\, North Yorkshire\, HG1 4BB\, United Kingdom
CATEGORIES:Padel,Padel Coaching
END:VEVENT
BEGIN:VEVENT
DTSTART;TZID=Europe/London:20260616T170000
DTEND;TZID=Europe/London:20260616T180000
DTSTAMP:20260419T133337
CREATED:20250520T125900Z
LAST-MODIFIED:20250701T121857Z
UID:10003958-1781629200-1781632800@spatennis.org.uk
SUMMARY:Beginners Padel
DESCRIPTION:Hourly beginner’s padel coaching sessions. Tuesday’s 5pm-6pm Book via Playtomic
URL:https://spatennis.org.uk/event/beginners-padel/2026-06-16/
LOCATION:Harrogate Spa Tennis & Padel Centre\, Claro Park\, Harrogate\, North Yorkshire\, HG1 4BB\, United Kingdom
CATEGORIES:Padel,Padel Coaching
END:VEVENT
BEGIN:VEVENT
DTSTART;TZID=Europe/London:20260616T180000
DTEND;TZID=Europe/London:20260616T190000
DTSTAMP:20260419T133337
CREATED:20250701T114506Z
LAST-MODIFIED:20250701T122352Z
UID:10004486-1781632800-1781636400@spatennis.org.uk
SUMMARY:Cardio Padel
DESCRIPTION:Cardio padel coaching sessions. Tuesday’s 6pm-7pm Book via Playtomic
URL:https://spatennis.org.uk/event/cardio-padel/2026-06-16/
LOCATION:Harrogate Spa Tennis & Padel Centre\, Claro Park\, Harrogate\, North Yorkshire\, HG1 4BB\, United Kingdom
CATEGORIES:Padel,Padel Coaching
END:VEVENT
BEGIN:VEVENT
DTSTART;TZID=Europe/London:20260623T160000
DTEND;TZID=Europe/London:20260623T170000
DTSTAMP:20260419T133337
CREATED:20250701T115113Z
LAST-MODIFIED:20250701T122232Z
UID:10004747-1782230400-1782234000@spatennis.org.uk
SUMMARY:Match Play with Jonathan (Padel)
DESCRIPTION:Match Play with Jonathan\, Tuesdays 4pm-5pm. Book via Playtomic
URL:https://spatennis.org.uk/event/match-play-with-jonathan-padel-2/2026-06-23/
LOCATION:Harrogate Spa Tennis & Padel Centre\, Claro Park\, Harrogate\, North Yorkshire\, HG1 4BB\, United Kingdom
CATEGORIES:Padel,Padel Coaching
END:VEVENT
BEGIN:VEVENT
DTSTART;TZID=Europe/London:20260623T170000
DTEND;TZID=Europe/London:20260623T180000
DTSTAMP:20260419T133337
CREATED:20250520T125900Z
LAST-MODIFIED:20250701T121857Z
UID:10003959-1782234000-1782237600@spatennis.org.uk
SUMMARY:Beginners Padel
DESCRIPTION:Hourly beginner’s padel coaching sessions. Tuesday’s 5pm-6pm Book via Playtomic
URL:https://spatennis.org.uk/event/beginners-padel/2026-06-23/
LOCATION:Harrogate Spa Tennis & Padel Centre\, Claro Park\, Harrogate\, North Yorkshire\, HG1 4BB\, United Kingdom
CATEGORIES:Padel,Padel Coaching
END:VEVENT
BEGIN:VEVENT
DTSTART;TZID=Europe/London:20260623T180000
DTEND;TZID=Europe/London:20260623T190000
DTSTAMP:20260419T133337
CREATED:20250701T114506Z
LAST-MODIFIED:20250701T122352Z
UID:10004487-1782237600-1782241200@spatennis.org.uk
SUMMARY:Cardio Padel
DESCRIPTION:Cardio padel coaching sessions. Tuesday’s 6pm-7pm Book via Playtomic
URL:https://spatennis.org.uk/event/cardio-padel/2026-06-23/
LOCATION:Harrogate Spa Tennis & Padel Centre\, Claro Park\, Harrogate\, North Yorkshire\, HG1 4BB\, United Kingdom
CATEGORIES:Padel,Padel Coaching
END:VEVENT
END:VCALENDAR